BEGIN:VCALENDAR
VERSION:2.0
PRODID:-//Sunshine Centres for Seniors - ECPv6.6.4.2//NONSGML v1.0//EN
CALSCALE:GREGORIAN
METHOD:PUBLISH
X-WR-CALNAME:Sunshine Centres for Seniors
X-ORIGINAL-URL:https://sunshinecentres.com
X-WR-CALDESC:Events for Sunshine Centres for Seniors
REFRESH-INTERVAL;VALUE=DURATION:PT1H
X-Robots-Tag:noindex
X-PUBLISHED-TTL:PT1H
BEGIN:VTIMEZONE
TZID:UTC
BEGIN:STANDARD
TZOFFSETFROM:+0000
TZOFFSETTO:+0000
TZNAME:UTC
DTSTART:20230101T000000
END:STANDARD
END:VTIMEZONE
BEGIN:VEVENT
DTSTART;TZID=UTC:20230907T100000
DTEND;TZID=UTC:20230907T130000
DTSTAMP:20260422T082252
CREATED:20230908T191427Z
LAST-MODIFIED:20250128T155608Z
UID:169-1694080800-1694091600@sunshinecentres.com
SUMMARY:St. James Town Programming (Carlton)
DESCRIPTION:Our Wellesley Community Centre and Carlton Street locations are a breath of fresh air for St. James Town seniors. Every week\, seniors keep active and connected as they catch up with one another over refreshments\, release stress during breathing and mediation sessions\, express their creative side with art projects\, and learn something new from fun and informative workshops.
URL:https://sunshinecentres.com/calendar/st-james-town-programming-2/
LOCATION:84 Carlton Street (1st Floor Recreational Room)\, 84 Carlton Street\, Toronto\, Ontario\, Canada
CATEGORIES:In-Person Programs
ATTACH;FMTTYPE=image/jpeg:https://sunshinecentres.com/wp-content/uploads/2023/09/84-Carlton.jpg
END:VEVENT
BEGIN:VEVENT
DTSTART;TZID=UTC:20260226T103000
DTEND;TZID=UTC:20260226T150000
DTSTAMP:20260422T082252
CREATED:20260121T152125Z
LAST-MODIFIED:20260121T152202Z
UID:435-1772101800-1772118000@sunshinecentres.com
SUMMARY:Seniors Active Living Fair - Thursday\, February 26\, 2026
DESCRIPTION:Seniors Active Living Fair\nThursday\, February 26\, 2026 | 10:30 a.m. – 3:00 p.m.The 519 Community Centre – 2nd Floor Ballroom519 Church Street\, Toronto \nSunshine Centres for Seniors invites you to our Seniors Active Living Fair\, a free\, drop-in community event designed to support healthy\, informed\, and connected aging. \nThroughout the day\, participants can explore a vibrant trade show featuring 12+ exhibitors\, enjoy free healthy snacks\, access health clinics and screenings\, and connect with organizations offering services\, supports\, and resources for older adults. There will also be guest speakers\, presentations\, and live demonstrations focused on safety\, wellness\, and consumer protection. \nEvent Agenda Highlights:\n\n\n10:30 a.m. – 1:00 p.m. Trade Show \n\n\n10:45 a.m. Opening Remarks \n\n\n11:00 a.m. Consumer Protections Presentation \n\n\n12:00 p.m. Light Lunch & Refreshments \n\n\n1:00 p.m. Elder Abuse Prevention Presentation \n\n\n2:15 p.m. Sing-Along \n\n\n2:45 p.m. Closing Remarks \n\n\nNo registration required – feel free to drop in and out at your convenience. \nThis event is hosted by Sunshine Centres for Seniors in partnership with the Older Adult Centres’ Association of Ontario (OACAO)\, with funding provided by the Government of Ontario. \nFor more information\, please contact us at 416-924-3979 or info@sunshinecentres.com. \nWe look forward to welcoming you for a day of learning\, connection\, and community! ☀️
URL:https://sunshinecentres.com/calendar/seniors-active-living-fair-thursday-february-26-2026/
LOCATION:519 Church St\, 519 Church St\, Toronto\, ON\, Canada
CATEGORIES:Event
END:VEVENT
BEGIN:VEVENT
DTSTART;TZID=UTC:20250108T153000
DTEND;TZID=UTC:20250108T163000
DTSTAMP:20260422T082252
CREATED:20230910T174713Z
LAST-MODIFIED:20260107T135654Z
UID:197-1736350200-1736353800@sunshinecentres.com
SUMMARY:Mandarin/Cantonese Program
DESCRIPTION:Join us for fun with friends\, we all are Mandarin/Cantonese speaking!
URL:https://sunshinecentres.com/calendar/mandarin-cantonese-program/
LOCATION:ON
CATEGORIES:Virtual Programs
END:VEVENT
END:VCALENDAR